BEGIN:VCALENDAR
PRODID;X-RICAL-TZSOURCE=TZINFO:surgpu.fliptable.ru
CALSCALE:GREGORIAN
VERSION:2.0
BEGIN:VTIMEZONE
TZID;X-RICAL-TZSOURCE=TZINFO:Asia/Yekaterinburg
BEGIN:STANDARD
DTSTART:20141026T020000
RDATE:20141026T020000
TZOFFSETFROM:+0600
TZOFFSETTO:+0500
TZNAME:+05
END:STANDARD
END:VTIMEZONE
BEGIN:VEVENT
DTEND;TZID=Asia/Yekaterinburg;VALUE=DATE-TIME:20260224T175000
DTSTART;TZID=Asia/Yekaterinburg;VALUE=DATE-TIME:20260224T162000
DESCRIPTION: \, Ст. преподаватель\, Ивонина А.С.
SUMMARY:Репетиция
LOCATION:Акт. зал (1309) (Корпус 1)
END:VEVENT
BEGIN:VEVENT
DTEND;TZID=Asia/Yekaterinburg;VALUE=DATE-TIME:20260225T175000
DTSTART;TZID=Asia/Yekaterinburg;VALUE=DATE-TIME:20260225T162000
DESCRIPTION: \, Ст. преподаватель\, Ивонина А.С.
SUMMARY:Репетиция
LOCATION:Акт. зал (1309) (Корпус 1)
END:VEVENT
BEGIN:VEVENT
DTEND;TZID=Asia/Yekaterinburg;VALUE=DATE-TIME:20260327T143000
DTSTART;TZID=Asia/Yekaterinburg;VALUE=DATE-TIME:20260327T130000
DESCRIPTION: \, Доцент\, Гризлюк Л.В.
SUMMARY:Профориентационное мероприятие
LOCATION:1103 (Корпус 1)\, 1405-1406 (Корпус 1)\, 1401 (Корпус 1)
END:VEVENT
BEGIN:VEVENT
DTEND;TZID=Asia/Yekaterinburg;VALUE=DATE-TIME:20260416T143000
DTSTART;TZID=Asia/Yekaterinburg;VALUE=DATE-TIME:20260416T130000
DESCRIPTION: \, 
SUMMARY:КОНФЕРЕНЦИЯ
LOCATION:1402 (Корпус 1)\, 1401 (Корпус 1)
END:VEVENT
BEGIN:VEVENT
DTEND;TZID=Asia/Yekaterinburg;VALUE=DATE-TIME:20260416T161000
DTSTART;TZID=Asia/Yekaterinburg;VALUE=DATE-TIME:20260416T144000
DESCRIPTION: \, 
SUMMARY:КОНФЕРЕНЦИЯ
LOCATION:1401 (Корпус 1)\, 1402 (Корпус 1)
END:VEVENT
BEGIN:VEVENT
DTEND;TZID=Asia/Yekaterinburg;VALUE=DATE-TIME:20260416T175000
DTSTART;TZID=Asia/Yekaterinburg;VALUE=DATE-TIME:20260416T162000
DESCRIPTION: \, 
SUMMARY:КОНФЕРЕНЦИЯ
LOCATION:1401 (Корпус 1)\, 1402 (Корпус 1)
END:VEVENT
BEGIN:VEVENT
DTEND;TZID=Asia/Yekaterinburg;VALUE=DATE-TIME:20260424T143000
DTSTART;TZID=Asia/Yekaterinburg;VALUE=DATE-TIME:20260424T130000
DESCRIPTION: \, 
SUMMARY:Читательская дуэль
LOCATION:1418-1419 (Корпус 1)\, 1416 (Корпус 1)
END:VEVENT
BEGIN:VEVENT
DTEND;TZID=Asia/Yekaterinburg;VALUE=DATE-TIME:20260424T161000
DTSTART;TZID=Asia/Yekaterinburg;VALUE=DATE-TIME:20260424T144000
DESCRIPTION: \, 
SUMMARY:Читательская дуэль
LOCATION:1416 (Корпус 1)\, 1418-1419 (Корпус 1)
END:VEVENT
END:VCALENDAR
