BEGIN:VCALENDAR
PRODID;X-RICAL-TZSOURCE=TZINFO:surgpu.fliptable.ru
CALSCALE:GREGORIAN
VERSION:2.0
BEGIN:VTIMEZONE
TZID;X-RICAL-TZSOURCE=TZINFO:Asia/Yekaterinburg
BEGIN:STANDARD
DTSTART:20141026T020000
RDATE:20141026T020000
TZOFFSETFROM:+0600
TZOFFSETTO:+0500
TZNAME:+05
END:STANDARD
END:VTIMEZONE
BEGIN:VEVENT
DTEND;TZID=Asia/Yekaterinburg;VALUE=DATE-TIME:20260505T103000
DTSTART;TZID=Asia/Yekaterinburg;VALUE=DATE-TIME:20260505T090000
DESCRIPTION: \, Б-5063\, Б-4062\, Б-5062
SUMMARY:«Проводники смыслов. Новый маршрут»
LOCATION:Акт. зал (2218) (Корпус 2)
END:VEVENT
BEGIN:VEVENT
DTEND;TZID=Asia/Yekaterinburg;VALUE=DATE-TIME:20260507T161000
DTSTART;TZID=Asia/Yekaterinburg;VALUE=DATE-TIME:20260507T144000
DESCRIPTION: \, Б-4281\, Б-2071\, Б-4071
SUMMARY:«Проводники смыслов. Новый маршрут»
LOCATION:1313 (Корпус 1)
END:VEVENT
BEGIN:VEVENT
DTEND;TZID=Asia/Yekaterinburg;VALUE=DATE-TIME:20260511T103000
DTSTART;TZID=Asia/Yekaterinburg;VALUE=DATE-TIME:20260511T090000
DESCRIPTION: \, Б-4101
SUMMARY:«Проводники смыслов.Новый маршрут»
LOCATION:Конференц-зал (3206) (Корпус 3)
END:VEVENT
BEGIN:VEVENT
DTEND;TZID=Asia/Yekaterinburg;VALUE=DATE-TIME:20260512T175000
DTSTART;TZID=Asia/Yekaterinburg;VALUE=DATE-TIME:20260512T162000
DESCRIPTION: \, Б-4271
SUMMARY:«Проводники смыслов. Новый маршрут»
LOCATION:Акт. зал (2218) (Корпус 2)
END:VEVENT
BEGIN:VEVENT
DTEND;TZID=Asia/Yekaterinburg;VALUE=DATE-TIME:20260512T175000
DTSTART;TZID=Asia/Yekaterinburg;VALUE=DATE-TIME:20260512T162000
DESCRIPTION: \, Б-5101\, Б-5032
SUMMARY:«Проводники смыслов.Новый маршрут»
LOCATION:Акт. зал (2218) (Корпус 2)
END:VEVENT
BEGIN:VEVENT
DTEND;TZID=Asia/Yekaterinburg;VALUE=DATE-TIME:20260514T143000
DTSTART;TZID=Asia/Yekaterinburg;VALUE=DATE-TIME:20260514T130000
DESCRIPTION: \, Б-3021
SUMMARY:«Проводники смыслов. Новый маршрут»
LOCATION:Акт. зал (2218) (Корпус 2)
END:VEVENT
BEGIN:VEVENT
DTEND;TZID=Asia/Yekaterinburg;VALUE=DATE-TIME:20260514T143000
DTSTART;TZID=Asia/Yekaterinburg;VALUE=DATE-TIME:20260514T130000
DESCRIPTION: \, Б-5053\, Б-3051\, Б-2051
SUMMARY:«Проводники смыслов.Новый маршрут»
LOCATION:Акт. зал (2218) (Корпус 2)
END:VEVENT
BEGIN:VEVENT
DTEND;TZID=Asia/Yekaterinburg;VALUE=DATE-TIME:20260515T143000
DTSTART;TZID=Asia/Yekaterinburg;VALUE=DATE-TIME:20260515T130000
DESCRIPTION: \, Б-4201\, Б-3201\, Б-5201
SUMMARY:«Проводники смыслов.Новый маршрут»
LOCATION:Конференц-зал (3206) (Корпус 3)
END:VEVENT
BEGIN:VEVENT
DTEND;TZID=Asia/Yekaterinburg;VALUE=DATE-TIME:20260515T143000
DTSTART;TZID=Asia/Yekaterinburg;VALUE=DATE-TIME:20260515T130000
DESCRIPTION: \, Б-4241\, Б-3301\, Б-3241
SUMMARY:«Проводники смыслов.Новый маршрут»
LOCATION:Конференц-зал (3206) (Корпус 3)
END:VEVENT
BEGIN:VEVENT
DTEND;TZID=Asia/Yekaterinburg;VALUE=DATE-TIME:20260521T161000
DTSTART;TZID=Asia/Yekaterinburg;VALUE=DATE-TIME:20260521T144000
DESCRIPTION: \, ЦМИ
SUMMARY:Проводники смыслов
LOCATION:1409 (Корпус 1)
END:VEVENT
BEGIN:VEVENT
DTEND;TZID=Asia/Yekaterinburg;VALUE=DATE-TIME:20260521T161000
DTSTART;TZID=Asia/Yekaterinburg;VALUE=DATE-TIME:20260521T144000
DESCRIPTION: \, Б-3171у\, Б-3171
SUMMARY:«Проводники смыслов. Новый маршрут»
LOCATION:1409 (Корпус 1)
END:VEVENT
BEGIN:VEVENT
DTEND;TZID=Asia/Yekaterinburg;VALUE=DATE-TIME:20260525T161000
DTSTART;TZID=Asia/Yekaterinburg;VALUE=DATE-TIME:20260525T144000
DESCRIPTION: \, Б-5281
SUMMARY:«Проводники смыслов. Новый маршрут»
LOCATION:1313 (Корпус 1)
END:VEVENT
BEGIN:VEVENT
DTEND;TZID=Asia/Yekaterinburg;VALUE=DATE-TIME:20260525T161000
DTSTART;TZID=Asia/Yekaterinburg;VALUE=DATE-TIME:20260525T144000
DESCRIPTION: \, ЦМИ
SUMMARY:Проводники смыслов
LOCATION:1313 (Корпус 1)
END:VEVENT
END:VCALENDAR
