BEGIN:VCALENDAR
PRODID;X-RICAL-TZSOURCE=TZINFO:surgpu.fliptable.ru
CALSCALE:GREGORIAN
VERSION:2.0
BEGIN:VTIMEZONE
TZID;X-RICAL-TZSOURCE=TZINFO:Asia/Yekaterinburg
BEGIN:STANDARD
DTSTART:20141026T020000
RDATE:20141026T020000
TZOFFSETFROM:+0600
TZOFFSETTO:+0500
TZNAME:+05
END:STANDARD
END:VTIMEZONE
BEGIN:VEVENT
DTEND;TZID=Asia/Yekaterinburg;VALUE=DATE-TIME:20260414T103000
DTSTART;TZID=Asia/Yekaterinburg;VALUE=DATE-TIME:20260414T090000
DESCRIPTION: \, ЦМИ
SUMMARY:Медиапоток
LOCATION:Акт. зал (2218) (Корпус 2)
END:VEVENT
BEGIN:VEVENT
DTEND;TZID=Asia/Yekaterinburg;VALUE=DATE-TIME:20260414T121000
DTSTART;TZID=Asia/Yekaterinburg;VALUE=DATE-TIME:20260414T104000
DESCRIPTION: \, ЦМИ
SUMMARY:Медиапоток
LOCATION:Акт. зал (2218) (Корпус 2)
END:VEVENT
BEGIN:VEVENT
DTEND;TZID=Asia/Yekaterinburg;VALUE=DATE-TIME:20260414T130000
DTSTART;TZID=Asia/Yekaterinburg;VALUE=DATE-TIME:20260414T121000
DESCRIPTION: \, ЦМИ
SUMMARY:Медиапоток
LOCATION:Акт. зал (2218) (Корпус 2)
END:VEVENT
BEGIN:VEVENT
DTEND;TZID=Asia/Yekaterinburg;VALUE=DATE-TIME:20260414T143000
DTSTART;TZID=Asia/Yekaterinburg;VALUE=DATE-TIME:20260414T130000
DESCRIPTION: \, ЦМИ
SUMMARY:Медиапоток
LOCATION:Акт. зал (2218) (Корпус 2)
END:VEVENT
BEGIN:VEVENT
DTEND;TZID=Asia/Yekaterinburg;VALUE=DATE-TIME:20260420T121000
DTSTART;TZID=Asia/Yekaterinburg;VALUE=DATE-TIME:20260420T104000
DESCRIPTION: \, УВРиМП
SUMMARY:Проводники смыслов
LOCATION:Конференц-зал (3206) (Корпус 3)
END:VEVENT
BEGIN:VEVENT
DTEND;TZID=Asia/Yekaterinburg;VALUE=DATE-TIME:20260420T143000
DTSTART;TZID=Asia/Yekaterinburg;VALUE=DATE-TIME:20260420T130000
DESCRIPTION: \, УВРиМП
SUMMARY:Проводники смыслов
LOCATION:Конференц-зал (3206) (Корпус 3)
END:VEVENT
BEGIN:VEVENT
DTEND;TZID=Asia/Yekaterinburg;VALUE=DATE-TIME:20260421T175000
DTSTART;TZID=Asia/Yekaterinburg;VALUE=DATE-TIME:20260421T162000
DESCRIPTION: \, Б-3071\, Б-5071
SUMMARY:«Проводники смыслов. Новый маршрут»
LOCATION:1307 (Корпус 1)
END:VEVENT
BEGIN:VEVENT
DTEND;TZID=Asia/Yekaterinburg;VALUE=DATE-TIME:20260421T175000
DTSTART;TZID=Asia/Yekaterinburg;VALUE=DATE-TIME:20260421T162000
DESCRIPTION: \, ЦМИ
SUMMARY:Проводники смыслов
LOCATION:1307 (Корпус 1)
END:VEVENT
BEGIN:VEVENT
DTEND;TZID=Asia/Yekaterinburg;VALUE=DATE-TIME:20260423T103000
DTSTART;TZID=Asia/Yekaterinburg;VALUE=DATE-TIME:20260423T090000
DESCRIPTION: \, Б-5271\, Б-5151у\, Б-5151
SUMMARY:«Проводники смыслов. Новый маршрут»
LOCATION:Акт. зал (2218) (Корпус 2)
END:VEVENT
BEGIN:VEVENT
DTEND;TZID=Asia/Yekaterinburg;VALUE=DATE-TIME:20260424T175000
DTSTART;TZID=Asia/Yekaterinburg;VALUE=DATE-TIME:20260424T162000
DESCRIPTION: \, Б-5111\, Б-4113
SUMMARY:«Проводники смыслов. Новый маршрут»
LOCATION:Акт. зал (2218) (Корпус 2)
END:VEVENT
BEGIN:VEVENT
DTEND;TZID=Asia/Yekaterinburg;VALUE=DATE-TIME:20260424T175000
DTSTART;TZID=Asia/Yekaterinburg;VALUE=DATE-TIME:20260424T162000
DESCRIPTION: \, Б-3111
SUMMARY:«Проводники смыслов. Новый маршрут»
LOCATION:Акт. зал (2218) (Корпус 2)
END:VEVENT
BEGIN:VEVENT
DTEND;TZID=Asia/Yekaterinburg;VALUE=DATE-TIME:20260427T161000
DTSTART;TZID=Asia/Yekaterinburg;VALUE=DATE-TIME:20260427T144000
DESCRIPTION: \, УВРиМП
SUMMARY:Проводники смыслов
LOCATION:Конференц-зал (3206) (Корпус 3)
END:VEVENT
BEGIN:VEVENT
DTEND;TZID=Asia/Yekaterinburg;VALUE=DATE-TIME:20260511T103000
DTSTART;TZID=Asia/Yekaterinburg;VALUE=DATE-TIME:20260511T090000
DESCRIPTION: \, УВРиМП
SUMMARY:Проводники смыслов
LOCATION:Конференц-зал (3206) (Корпус 3)
END:VEVENT
BEGIN:VEVENT
DTEND;TZID=Asia/Yekaterinburg;VALUE=DATE-TIME:20260511T161000
DTSTART;TZID=Asia/Yekaterinburg;VALUE=DATE-TIME:20260511T144000
DESCRIPTION: \, Б-2053
SUMMARY:«Проводники смыслов.Новый маршрут»
LOCATION:Конференц-зал (3206) (Корпус 3)
END:VEVENT
BEGIN:VEVENT
DTEND;TZID=Asia/Yekaterinburg;VALUE=DATE-TIME:20260511T161000
DTSTART;TZID=Asia/Yekaterinburg;VALUE=DATE-TIME:20260511T144000
DESCRIPTION: \, Б-3271\, Б-5113
SUMMARY:«Проводники смыслов. Новый маршрут»
LOCATION:Конференц-зал (3206) (Корпус 3)
END:VEVENT
BEGIN:VEVENT
DTEND;TZID=Asia/Yekaterinburg;VALUE=DATE-TIME:20260511T161000
DTSTART;TZID=Asia/Yekaterinburg;VALUE=DATE-TIME:20260511T144000
DESCRIPTION: \, УВРиМП
SUMMARY:Проводники смыслов
LOCATION:Конференц-зал (3206) (Корпус 3)
END:VEVENT
BEGIN:VEVENT
DTEND;TZID=Asia/Yekaterinburg;VALUE=DATE-TIME:20260513T161000
DTSTART;TZID=Asia/Yekaterinburg;VALUE=DATE-TIME:20260513T144000
DESCRIPTION: \, Б-5301
SUMMARY:«Проводники смыслов.Новый маршрут»
LOCATION:Акт. зал (2218) (Корпус 2)
END:VEVENT
BEGIN:VEVENT
DTEND;TZID=Asia/Yekaterinburg;VALUE=DATE-TIME:20260513T161000
DTSTART;TZID=Asia/Yekaterinburg;VALUE=DATE-TIME:20260513T144000
DESCRIPTION: \, Б-4031
SUMMARY:«Проводники смыслов.Новый маршрут»
LOCATION:Акт. зал (2218) (Корпус 2)
END:VEVENT
BEGIN:VEVENT
DTEND;TZID=Asia/Yekaterinburg;VALUE=DATE-TIME:20260514T175000
DTSTART;TZID=Asia/Yekaterinburg;VALUE=DATE-TIME:20260514T162000
DESCRIPTION: \, УВРиМП
SUMMARY:Проводники смыслов
LOCATION:Конференц-зал (3206) (Корпус 3)
END:VEVENT
BEGIN:VEVENT
DTEND;TZID=Asia/Yekaterinburg;VALUE=DATE-TIME:20260515T143000
DTSTART;TZID=Asia/Yekaterinburg;VALUE=DATE-TIME:20260515T130000
DESCRIPTION: \, УВРиМП
SUMMARY:Проводники смыслов
LOCATION:Конференц-зал (3206) (Корпус 3)
END:VEVENT
BEGIN:VEVENT
DTEND;TZID=Asia/Yekaterinburg;VALUE=DATE-TIME:20260515T161000
DTSTART;TZID=Asia/Yekaterinburg;VALUE=DATE-TIME:20260515T144000
DESCRIPTION: \, УВРиМП
SUMMARY:Проводники смыслов
LOCATION:Конференц-зал (3206) (Корпус 3)
END:VEVENT
BEGIN:VEVENT
DTEND;TZID=Asia/Yekaterinburg;VALUE=DATE-TIME:20260518T161000
DTSTART;TZID=Asia/Yekaterinburg;VALUE=DATE-TIME:20260518T144000
DESCRIPTION: \, ЦМИ
SUMMARY:Проводники смыслов
LOCATION:1409 (Корпус 1)
END:VEVENT
BEGIN:VEVENT
DTEND;TZID=Asia/Yekaterinburg;VALUE=DATE-TIME:20260518T175000
DTSTART;TZID=Asia/Yekaterinburg;VALUE=DATE-TIME:20260518T162000
DESCRIPTION: \, ЦМИ
SUMMARY:Проводники смыслов
LOCATION:1409 (Корпус 1)
END:VEVENT
BEGIN:VEVENT
DTEND;TZID=Asia/Yekaterinburg;VALUE=DATE-TIME:20260528T161000
DTSTART;TZID=Asia/Yekaterinburg;VALUE=DATE-TIME:20260528T144000
DESCRIPTION: \, ЦМИ
SUMMARY:Проводники смыслов
LOCATION:1409 (Корпус 1)
END:VEVENT
END:VCALENDAR
